BEGIN:VCALENDAR
VERSION:2.0
PRODID:-// - ECPv6.15.11//NONSGML v1.0//EN
CALSCALE:GREGORIAN
METHOD:PUBLISH
X-ORIGINAL-URL:https://fhba.com
X-WR-CALDESC:Events for 
REFRESH-INTERVAL;VALUE=DURATION:PT1H
X-Robots-Tag:noindex
X-PUBLISHED-TTL:PT1H
BEGIN:VTIMEZONE
TZID:UTC
BEGIN:STANDARD
TZOFFSETFROM:+0000
TZOFFSETTO:+0000
TZNAME:UTC
DTSTART:20200101T000000
END:STANDARD
END:VTIMEZONE
BEGIN:VTIMEZONE
TZID:America/New_York
BEGIN:DAYLIGHT
TZOFFSETFROM:-0500
TZOFFSETTO:-0400
TZNAME:EDT
DTSTART:20180311T070000
END:DAYLIGHT
BEGIN:STANDARD
TZOFFSETFROM:-0400
TZOFFSETTO:-0500
TZNAME:EST
DTSTART:20181104T060000
END:STANDARD
BEGIN:DAYLIGHT
TZOFFSETFROM:-0500
TZOFFSETTO:-0400
TZNAME:EDT
DTSTART:20190310T070000
END:DAYLIGHT
BEGIN:STANDARD
TZOFFSETFROM:-0400
TZOFFSETTO:-0500
TZNAME:EST
DTSTART:20191103T060000
END:STANDARD
BEGIN:DAYLIGHT
TZOFFSETFROM:-0500
TZOFFSETTO:-0400
TZNAME:EDT
DTSTART:20200308T070000
END:DAYLIGHT
BEGIN:STANDARD
TZOFFSETFROM:-0400
TZOFFSETTO:-0500
TZNAME:EST
DTSTART:20201101T060000
END:STANDARD
BEGIN:DAYLIGHT
TZOFFSETFROM:-0500
TZOFFSETTO:-0400
TZNAME:EDT
DTSTART:20210314T070000
END:DAYLIGHT
BEGIN:STANDARD
TZOFFSETFROM:-0400
TZOFFSETTO:-0500
TZNAME:EST
DTSTART:20211107T060000
END:STANDARD
END:VTIMEZONE
BEGIN:VEVENT
DTSTART;TZID=UTC:20210217T133000
DTEND;TZID=UTC:20210217T133000
DTSTAMP:20260419T132732
CREATED:20210209T145729Z
LAST-MODIFIED:20210209T145730Z
UID:10173-1613568600-1613568600@fhba.com
SUMMARY:Economic Forecast & Legislative Update
DESCRIPTION:Members only Zoom meeting on Wednesday\, Feb. 17 where we’ll be joined virtually by the renowned Chief Economist of the NAHB\, Dr. Robert Dietz.\n\n \n\nAlso join us for a legislative briefing as state lawmakers gear up for the 2021 Florida legislative session. For our members who require continuing education from the Construction Industry Licensing Board\, this presentation will count towards your continuing education credits.\n\n \n\nClick on the link below to register\n\n \n\nhttps://us02web.zoom.us/meeting/register/tZUqdOCtqzMpEtGznFeK-SXMG_Hpz7Jgog3a
URL:https://fhba.com/event/economic-forecast-legislative-update/
LOCATION:Virtual Meetings on Zoom\, United States
CATEGORIES:Education,Legislative
END:VEVENT
BEGIN:VEVENT
DTSTART;TZID=America/New_York:20200203T080000
DTEND;TZID=America/New_York:20200205T170000
DTSTAMP:20260419T132732
CREATED:20190607T183424Z
LAST-MODIFIED:20191126T190605Z
UID:9365-1580716800-1580922000@fhba.com
SUMMARY:2020 FHBA Legislative Conference
DESCRIPTION:Join us as FHBA hosts the 2020 Legislative Conference\, February 3-5 in Tallahassee\, Florida\, where members and leaders in Florida residential construction and remodeling industry participate in legislative training\, engage with elected officials\, and meet to address organizational agendas. Legislators and Capitol observers use this event as a barometer of FHBA member intensity regarding our legislative initiatives. Be sure to join us as we firmly support the building industry in Florida. \nMEETING SCHEDULE\nClick here to download the most current meeting schedule. \nHOTEL INFORMATION\nSOLD OUT – Hotel Duval\, Autograph Collection | 415 N Monroe Street Tallahassee\, FL 32301 | (850) 224-6000 \nDoubleTree by Hilton Hotel Tallahassee | 101 S Adams Street | Tallahassee\, FL 32301\nClick here to make your hotel reservations or call 877-800-2652 and mention the Florida Home Builders Association. The group room rate is $234 per night. The deadline to make reservations and to receive the group rate is Thursday\, January 3\, 2020. \nCONFERENCE VENUE\nHotel Duval\, Autograph Collection | 415 N Monroe Street | Tallahassee\, FL 32301\nParking: The hotel has a special rate of $12 for overnight valet parking. Daily valet parking for guest not staying at the hotel is $5 per car. \nSPECIAL EVENTS\nTuesday\, February 4\, 2020 \nLegislative Reception\nLocation: Governors Club | 202 S Adams Street | Tallahassee\, FL 32301\nTime: 5:30 pm – 7:00 pm\nThis event is included with all conference registrations and is walking distance from conference venue. \nQUESTIONS?\nPlease contact Kailin Koch (850) 402-1849 or by email kkoch@fhba.com. \nPLEASE NOTE: By registering for The FHBA Legislative Conference\, you understand that photographic\, voice or video recordings may be made of you and you willingly agree that FHBA and local affiliates may use your photograph\, voice or video recordings in print\, projection\, website or video format for future marketing efforts.
URL:https://fhba.com/event/2020-fhba-legislative-conference/
LOCATION:Hotel Duval\, Autograph Collection\, 415 N Monroe Street\, Tallahassee\, FL\, 32301\, United States
CATEGORIES:Conferences,Legislative
ORGANIZER;CN="Robin Erb":MAILTO:rerb@fhba.com
END:VEVENT
BEGIN:VEVENT
DTSTART;TZID=America/New_York:20190612T080000
DTEND;TZID=America/New_York:20190613T130000
DTSTAMP:20260419T132732
CREATED:20190311T164351Z
LAST-MODIFIED:20190405T201230Z
UID:9238-1560326400-1560430800@fhba.com
SUMMARY:FHB PAC Streamsong Golf & Sporting Clay Fundraiser
DESCRIPTION:The FHB PAC Streamsong Golf & Sporting Clay Fundraiser benefits the Florida Home Builders Political Action Committee (FHB PAC). \nMEETING SCHEDULE\nWednesday\, June 12\, 2019:\nArrival – 3:00PM – 5:00PM\nWelcome Reception – 5:30PM\nDinner – 6:30PM \nThursday\, June 13\, 2019:\nBreakfast – 7:00AM – 8:00AM\nGolf Tournament – 8:00AM – 12:00PM\nSporting Clay Tournament – 9:00AM\nLunch – 12:00PM\nDeparture – 1:00PM \nHOTEL INFORMATION\nStreamsong Resort\n1000 Streamsong Drive\, Bowling Green\, Florida 33834\nPlease Note: Hotel reservations are included with your ticket package purchase. Reservations will be made by staff. \nQUESTIONS?\nPlease contact Kailin Koch (850) 402-1849 or by email kkoch@fhba.com. \nPLEASE NOTE: By registering for The FHB PAC Streamsong Golf & Sporting Clay Fundraiser\, you understand that photographic\, voice or video recordings may be made of you and you willingly agree that FHBA and local affiliates may use your photograph\, voice or video recordings in print\, projection\, website or video format for future marketing efforts.
URL:https://fhba.com/event/fhb-pac-streamsong-golf-sporting-clay-fundraiser/
LOCATION:Streamsong Resort\, 1000 Streamsong Drive\, Bowling Green\, FL\, 33834\, United States
CATEGORIES:FHB PAC,Legislative
ORGANIZER;CN="Kailin Koch":MAILTO:kkoch@fhba.com
END:VEVENT
BEGIN:VEVENT
DTSTART;VALUE=DATE:20190311
DTEND;VALUE=DATE:20190314
DTSTAMP:20260419T132732
CREATED:20180810T161950Z
LAST-MODIFIED:20190307T144633Z
UID:8541-1552262400-1552521599@fhba.com
SUMMARY:2019 FHBA Legislative Conference
DESCRIPTION:Join us as FHBA hosts the 2019 Legislative Conference\, March 11-13\, 2019 in Tallahassee\, Florida\, where members and leaders in Florida residential construction and remodeling industry participate in legislative training\, engage with elected officials\, and meet to address organizational agendas. Legislators and Capitol observers use this event as a barometer of FHBA member intensity regarding our legislative initiatives. Be sure to join us as we firmly support the building industry in Florida. \nMEETING SCHEDULE\nClick here to download the most current meeting schedule. \nHOTEL INFORMATION\nSOLD OUT – DoubleTree by Hilton | 101 S Adams St\, Tallahassee\, FL 32301 | (850) 224-5000 \nAdditional Hotels:\nAloft Tallahassee Downtown | 200 N Monroe St\, Tallahassee\, FL 32301 | (850) 513-0313\nHotel Duval\, Autograph Collection | 415 N Monroe St\, Tallahassee\, FL 32301 | (850) 224-6000\nFour Points by Sheraton Tallahassee Downtown |  316 W Tennessee St\, Tallahassee\, FL 32301 | (850) 422-0071\nResidence Inn by Marriott | 600 W Gaines St\, Tallahassee\, FL 32304 | (850) 329-9080 \nCONFERENCE VENUE\nChallenger Learning Center located at 200 South Duval St\, Tallahassee\, FL 32301. \nCONFERENCE PARKING\nThe Kleman Parking Garage is the closest public parking garage to the Challenger Learning Center. It is adjacent to the Center on Kleman Plaza. Entrances to the Kleman Parking Garage are located on South Duval and South Bronough Streets. Additional parking is available at metered street spots and other public lots located throughout downtown Tallahassee. \nSPECIAL EVENTS\nTuesday\, March 12\, 2019\nLegislative Reception\nLocation: Governors Club\, 202 S Adams St\, Tallahassee\, FL 32301\nTime: 5:30 pm – 7:00 pm\nThis event is included with all conference registrations and is walking distance from conference venue. \nQUESTIONS?\nPlease contact Kailin Koch (850) 402-1849 or by email kkoch@fhba.com. \nPLEASE NOTE: By registering for The FHBA Legislative Conference\, you understand that photographic\, voice or video recordings may be made of you and you willingly agree that FHBA and local affiliates may use your photograph\, voice or video recordings in print\, projection\, website or video format for future marketing efforts.
URL:https://fhba.com/event/2019-fhba-legislative-conference/
CATEGORIES:Conferences,Legislative,Legislative Conference
ORGANIZER;CN="Robin Erb":MAILTO:rerb@fhba.com
END:VEVENT
END:VCALENDAR